BEGIN:VCALENDAR
VERSION:2.0
PRODID:-//wp-events-plugin.com//7.2.3.1//EN
BEGIN:VEVENT
UID:26@stepup-energy.com
DTSTART:20250409T163000Z
DTEND:20250409T193000Z
DTSTAMP:20250411T182528Z
URL:https://stepup-energy.com/events/situational-leadership-insights-for-s
 uccess/
SUMMARY:Situational Leadership Insights for Success
DESCRIPTION:Join StepUp for a morning of inspiration and insight - leadersh
 ip breakfast featuring a diverse panel of esteemed executives from the ene
 rgy sector!\n
CATEGORIES:Facility Tour,Panel Talk
END:VEVENT
BEGIN:VEVENT
UID:22@stepup-energy.com
DTSTART:20241127T073000Z
DTEND:20241127T093000Z
DTSTAMP:20250205T002315Z
URL:https://stepup-energy.com/events/unlocking-leadership-excellence-a-bre
 akfast-panel-discussion/
SUMMARY:Unlocking Leadership Excellence: A Breakfast Panel Discussion
DESCRIPTION:Join StepUp for a morning of inspiration and insight - leadersh
 ip breakfast featuring a diverse panel of esteemed executives from the ene
 rgy sector!\n
CATEGORIES:Facility Tour,Panel Talk
END:VEVENT
BEGIN:VEVENT
UID:25@stepup-energy.com
DTSTART:20241105T073000Z
DTEND:20241105T151500Z
DTSTAMP:20250317T210340Z
URL:https://stepup-energy.com/events/energy-efficiency-day-3/
SUMMARY:DEI Panel Discussion at EDA’s DEI Conference
DESCRIPTION:Four StepUp Directors joined EDA for a panel conversation about
  diversity\, equity\, and inclusion (DEI) on Tuesday\, November 5 for the 
 EDA's DEI 2024 at the Toronto Region Board of Trade.
CATEGORIES:Panel Talk
END:VEVENT
BEGIN:VEVENT
UID:23@stepup-energy.com
DTSTART:20241002T160000Z
DTEND:20241002T193000Z
DTSTAMP:20241018T010059Z
URL:https://stepup-energy.com/events/energy-efficiency-day-2/
SUMMARY:Energy Efficiency Day
DESCRIPTION:Celebrate Energy Efficiency Day with us on October 2!\n
CATEGORIES:Panel Talk
END:VEVENT
BEGIN:VEVENT
UID:21@stepup-energy.com
DTSTART:20240131T160000Z
DTEND:20240131T193000Z
DTSTAMP:20250317T210424Z
URL:https://stepup-energy.com/events/build-your-personal-brand/
SUMMARY:Build Your Personal Brand
DESCRIPTION:Discover how to create a powerful personal brand that sets you 
 apart from the crowd!\n
CATEGORIES:Facility Tour,Panel Talk
END:VEVENT
BEGIN:VEVENT
UID:20@stepup-energy.com
DTSTART:20231004T163000Z
DTEND:20231004T193000Z
DTSTAMP:20231022T224206Z
URL:https://stepup-energy.com/events/energy-efficiency-day/
SUMMARY:Energy Efficiency Day
DESCRIPTION:Celebrate Energy Efficiency Day with us on October 4!\n
CATEGORIES:Panel Talk
END:VEVENT
BEGIN:VEVENT
UID:19@stepup-energy.com
DTSTART;VALUE=DATE:20230608
DTEND;VALUE=DATE:20230609
DTSTAMP:20250317T210521Z
URL:https://stepup-energy.com/events/joint-event-diversity-equity-and-incl
 usion-in-energy-sector/
SUMMARY:Diversity\, Equity and Inclusion in Energy Sector
DESCRIPTION:Joint event in Niagara Falls on June 8th with the AESP Ontario 
 Chapter!\n
CATEGORIES:Facility Tour,Panel Talk
END:VEVENT
BEGIN:VEVENT
UID:18@stepup-energy.com
DTSTART:20221020T170000Z
DTEND:20221020T190000Z
DTSTAMP:20230129T221250Z
URL:https://stepup-energy.com/events/edi-engagement-session/
SUMMARY:EDI Engagement Session with StepUp
DESCRIPTION:StepUp is pleased to invite you to our Equity\, Diversity and I
 nclusion (EDI) Engagement Session on Thursday October 20th\, 2022\, from 5
 -7pm at the offices of Gowling WLG\, in Toronto\, Ontario.
CATEGORIES:Panel Talk
END:VEVENT
BEGIN:VEVENT
UID:17@stepup-energy.com
DTSTART:20220628T120000Z
DTEND:20220628T130000Z
DTSTAMP:20250317T210623Z
URL:https://stepup-energy.com/events/edi-baseline-survey-result/
SUMMARY:Unveiling EDI Baseline Survey Results
DESCRIPTION:StepUp launched a Canada-wide Equity\, Diversity\, and Inclusio
 n (EDI) Baseline Study this spring to understand the status of EDI in Cana
 da’s energy sector.
CATEGORIES:Panel Talk
END:VEVENT
BEGIN:VEVENT
UID:14@stepup-energy.com
DTSTART:20220324T123000Z
DTEND:20220324T133000Z
DTSTAMP:20250317T210801Z
URL:https://stepup-energy.com/events/edi-study-webinar/
SUMMARY:EDI Study Webinar
DESCRIPTION:Join us on March 24th at 12:30 ET for a short Information
 al Webinar to learn how you and your organization can participate in o
 ur brief survey and have your voices heard so that we can continue to w
 ork towards a future where equitable\, diverse\, and inclusive organizati
 ons are successfully leading the transition to a low carbon economy in Can
 ada.
CATEGORIES:Panel Talk
END:VEVENT
BEGIN:VEVENT
UID:16@stepup-energy.com
DTSTART:20210607T120000Z
DTEND:20210607T133000Z
DTSTAMP:20220401T001000Z
URL:https://stepup-energy.com/events/the-stepup-sessions-advancing-gender-
 equity-diversity-and-inclusion-in-ontarios-energy-management-sector-2/
SUMMARY:The StepUp Sessions: Advancing Gender Equity\, Diversity and Inclus
 ion in Ontario’s Energy Management Sector
DESCRIPTION:Join us June 7th 12:00 – 1:30 pm EDT for the 2nd in a 3-part 
 series that brings you a remarkable group of Senior Leaders on the leading
  edge of implementing strategies to promote gender equity\, diversity and 
 inclusion (D&I) within the workplace.
ATTACH;FMTTYPE=image/jpeg:https://stepup-energy.com/wp-content/uploads/202
 1/02/Eventbrite-event-image.jpg
CATEGORIES:Panel Talk
END:VEVENT
BEGIN:VEVENT
UID:13@stepup-energy.com
DTSTART:20210225T090000Z
DTEND:20210225T103000Z
DTSTAMP:20210301T225049Z
URL:https://stepup-energy.com/events/the-stepup-sessions-advancing-gender-
 equity-diversity-and-inclusion-in-ontarios-energy-management-sector/
SUMMARY:The StepUp Sessions: Advancing Gender Equity\, Diversity and Inclus
 ion in Ontario’s Energy Management Sector
DESCRIPTION:Join us for the 1st in a 3-part series that will bring you a re
 markable group of Senior Leaders on the leading edge of implementing strat
 egies to promote gender equity\, diversity and inclusion (D&I) within the 
 workplace.
ATTACH;FMTTYPE=image/jpeg:https://stepup-energy.com/wp-content/uploads/202
 1/02/Eventbrite-event-image.jpg
CATEGORIES:Panel Talk
END:VEVENT
BEGIN:VEVENT
UID:15@stepup-energy.com
DTSTART:20201119T140000Z
DTEND:20201119T153000Z
DTSTAMP:20211102T231057Z
URL:https://stepup-energy.com/events/energy-innovators-roundtable-3-drivin
 g-diversity-inclusion-in-the-power-sector/
SUMMARY:Energy Innovators Roundtable #3: Driving Diversity & Inclusion in T
 he Power Sector
DESCRIPTION:Join StepUp for an interesting discussion at the Energy Innovat
 ors Roundtable #3: Driving Diversity & Inclusion in The Power Sector.
ATTACH;FMTTYPE=image/jpeg:https://stepup-energy.com/wp-content/uploads/202
 0/10/Gowling-WLG.png
CATEGORIES:Panel Talk
END:VEVENT
BEGIN:VEVENT
UID:7@stepup-energy.com
DTSTART:20201117T090000Z
DTEND:20201117T103000Z
DTSTAMP:20201123T182328Z
URL:https://stepup-energy.com/events/collective-wisdom-the-judy-project/
SUMMARY:Collective Wisdom of High Performing Women - The Judy Project
DESCRIPTION:An interactive panel discussion with some of the highest-perfor
 ming Canadian women on leadership lessons from the Judy Project. The Judy 
 Project is a leadership forum run by the University of Toronto’s Rotman 
 School of Management that supports women rising to power in Canadian busin
 ess.
ATTACH;FMTTYPE=image/jpeg:https://stepup-energy.com/wp-content/uploads/202
 0/04/Collective-Wisdom-Ad.jpg
CATEGORIES:Panel Talk
END:VEVENT
BEGIN:VEVENT
UID:10@stepup-energy.com
DTSTART:20200814T120000Z
DTEND:20200814T130000Z
DTSTAMP:20200727T170403Z
URL:https://stepup-energy.com/events/efficiency-canada-unprofessional-netw
 orking-series-talent-show/
SUMMARY:Efficiency Canada (UN)Professional Networking Series: Talent Show
DESCRIPTION:Join Step-Up and Efficiency Canada for the efficiency sector's 
 first ever talent show. Can you juggle? Play the guitar? Balance a spoon o
 n your nose? Did you learn to count to ten in French? It’s a no rules\, 
 no expectations\, talent show – just for fun! Attendees get a minute to 
 introduce themselves and then have up to four minutes to show-off their ta
 lent\, before passing the mic to someone else. At the end\, there will be 
 time to hangout and chat.
ATTACH;FMTTYPE=image/jpeg:https://stepup-energy.com/wp-content/uploads/202
 0/06/Image.png
CATEGORIES:Webinar
END:VEVENT
BEGIN:VEVENT
UID:9@stepup-energy.com
DTSTART:20200717T120000Z
DTEND:20200717T124500Z
DTSTAMP:20201123T184828Z
URL:https://stepup-energy.com/events/efficiency-canada-discovery-sessionwo
 men-as-levers-of-change-for-energy-efficiency/
SUMMARY:Efficiency Canada Discovery Session: Women as Levers of Change for 
 Energy Efficiency
DESCRIPTION:As our industry and our world experience significant change rig
 ht now\,  we will explore why increasing gender diversity\, equity and i
 nclusion is critical to the success of Canada's energy management sector a
 nd how you can get started. 
ATTACH;FMTTYPE=image/jpeg:https://stepup-energy.com/wp-content/uploads/202
 0/06/EE-Cover.jpg
CATEGORIES:Webinar
END:VEVENT
BEGIN:VEVENT
UID:8@stepup-energy.com
DTSTART:20200602T153000Z
DTEND:20200602T163000Z
DTSTAMP:20250317T001502Z
URL:https://stepup-energy.com/events/webinar-harnessing-opportunities-from
 -the-unexpected/
SUMMARY:Webinar - Harnessing Opportunities from the Unexpected
DESCRIPTION:Expert insights from two outstanding female leaders about embra
 cing change and harnessing opportunities in the energy industry\, post-COV
 ID
CATEGORIES:Webinar
END:VEVENT
BEGIN:VEVENT
UID:4@stepup-energy.com
DTSTART;TZID=America/Toronto;VALUE=DATE:20200214
DTEND;TZID=America/Toronto;VALUE=DATE:20200215
DTSTAMP:20250317T001359Z
URL:https://stepup-energy.com/events/unconscious-bias-at-association-of-en
 ergy-services-professionals-conference-in-california-feb-2020/
SUMMARY:Unconscious Bias at Association of Energy Services Professionals Co
 nference in California
DESCRIPTION:Understanding the most common bias in today’s workplace and p
 roposing actions to un-bias companies.
CATEGORIES:Speaker Series
END:VEVENT
BEGIN:VEVENT
UID:3@stepup-energy.com
DTSTART;TZID=America/Toronto;VALUE=DATE:20191213
DTEND;TZID=America/Toronto;VALUE=DATE:20191214
DTSTAMP:20250317T001205Z
URL:https://stepup-energy.com/events/second-event-enwave-tour-and-ospes-di
 versity-stem-app-dec-2019/
SUMMARY:Enwave Tour and OSPE’s Diversity STEM App
DESCRIPTION:Enwave Tour and OSPE’s Diversity STEM App\nInformation sessio
 n and onsite touring of Enwave’s industry-leading Deep Lake Water Coolin
 g system\, followed with an update on OSPE’s new Diversity STEM app. 
CATEGORIES:Facility Tour
END:VEVENT
BEGIN:VEVENT
UID:2@stepup-energy.com
DTSTART:20190615T120000Z
DTEND:20190615T120000Z
DTSTAMP:20250317T001302Z
URL:https://stepup-energy.com/events/launch-event-unconscious-bias-worksho
 p-by-catalyst-june-2019/
SUMMARY:Launch Event: “Unconscious Bias Workshop by Catalyst
DESCRIPTION:Unconscious Bias workshop delivered by Alicia Sullivan from Cat
 alyst. Attendees learned to identify unconsciously biased thinking in them
 selves\, others and the system\, as they develop inclusive leadership skil
 ls to mitigate it. 
CATEGORIES:Workshop
END:VEVENT
BEGIN:VTIMEZONE
TZID:America/Toronto
X-LIC-LOCATION:America/Toronto
BEGIN:STANDARD
DTSTART:20191103T010000
TZOFFSETFROM:-0400
TZOFFSETTO:-0500
TZNAME:EST
END:STANDARD
END:VTIMEZONE
END:VCALENDAR